BEGIN:VCALENDAR
VERSION:2.0
PRODID:-//Howland - ECPv6.15.17.1//NONSGML v1.0//EN
CALSCALE:GREGORIAN
METHOD:PUBLISH
X-WR-CALNAME:Howland
X-ORIGINAL-URL:https://www.howlandoh.gov
X-WR-CALDESC:Events for Howland
REFRESH-INTERVAL;VALUE=DURATION:PT1H
X-Robots-Tag:noindex
X-PUBLISHED-TTL:PT1H
BEGIN:VTIMEZONE
TZID:America/New_York
BEGIN:DAYLIGHT
TZOFFSETFROM:-0500
TZOFFSETTO:-0400
TZNAME:EDT
DTSTART:20250309T070000
END:DAYLIGHT
BEGIN:STANDARD
TZOFFSETFROM:-0400
TZOFFSETTO:-0500
TZNAME:EST
DTSTART:20251102T060000
END:STANDARD
BEGIN:DAYLIGHT
TZOFFSETFROM:-0500
TZOFFSETTO:-0400
TZNAME:EDT
DTSTART:20260308T070000
END:DAYLIGHT
BEGIN:STANDARD
TZOFFSETFROM:-0400
TZOFFSETTO:-0500
TZNAME:EST
DTSTART:20261101T060000
END:STANDARD
BEGIN:DAYLIGHT
TZOFFSETFROM:-0500
TZOFFSETTO:-0400
TZNAME:EDT
DTSTART:20270314T070000
END:DAYLIGHT
BEGIN:STANDARD
TZOFFSETFROM:-0400
TZOFFSETTO:-0500
TZNAME:EST
DTSTART:20271107T060000
END:STANDARD
END:VTIMEZONE
BEGIN:VEVENT
DTSTART;TZID=America/New_York:20260427T000000
DTEND;TZID=America/New_York:20260427T235959
DTSTAMP:20260424T121729
CREATED:20260330T144620Z
LAST-MODIFIED:20260330T144817Z
UID:10000927-1777248000-1777334399@www.howlandoh.gov
SUMMARY:Spring Limb & Branch Pickup: Westside
DESCRIPTION:Pick-up is for trimmed or pruned\, root-free branches only.\nAll limbs up to 6″ in diameter and smaller should be placed next to the street with the cut-end facing the street.\nThe total amount should be equivalent to a 4′ x 8′ pile of wood.\nNo firewood or large logs will be picked up\n\nFollowing these recommendations makes the process safer and more efficient for our Public Works Team!
URL:https://www.howlandoh.gov/event/spring-limb-branch-pickup-westside/
LOCATION:OH
CATEGORIES:Howland Events
END:VEVENT
END:VCALENDAR